Workbook

Sheet SUPPORTO
B2: Gruppo di parametri revit
B3: Allineamento analitico
B4: Altro
B5: Analisi elettrica
B6: Analisi energetica
B7: Analisi strutturale
B8: Costruzione
B9: Dati
B10: Dati identità
B11: Elettrico
B12: Elettrico - Carichi
B13: Elettrico - Circuiti
... B53: Visualization

Sheet LEGENDE_PER_UTILIZZO
A1: Legenda utilizzo celle:
A2: Cella non modificabile
A3: Cella non modificabile
A4: Cella non modificabile (modificabile solo dopo accettazione della SA)
A5: Cella non modificabile ma indica colonna con valori da compilare/modificare a cura dell'Operatore Economico
A6: Cella modificabile da compilare/modificare a cura dell'Operatore Economico
A8: Legenda testo celle:
A9: Cella con parametri del modello o schede informative
A10: Cella con valori dei parametri del modello
A11: Cella con descrizione

Sheet DATABASE PARAMETRI
A1: DATABASE PARAMETRI | O1: DEFINIZIONE PROPERTY GROUP IFC
A2: PG DI RIFERIMENTO IFC | B2: PARAMETRO UTILIZZATO (REQUISITO MINIMO non modificabile. Indicare SI, NO per il resto) | C2: ATTRIBUTO DI RIFERIMENTO | D2: NOME ATTRIBUTO COMPLETO IFC | E2: TIPO DI PARAMETRO | F2: PARAMETRO SOFTWARE NATIVO | G2: GRUPPO DI PARAMETRI SOFTWARE NATIVO | H2: INFO PROGETTO/ TIPO / ISTANZA | I2: APPLICATO A | J2: LOD | K2: Presente nel modello BIM | L2: Presente nelle schede informative | M2: Nota | O2: Codice | P2: Descrizioni
A3: PSet_ANAGRAFICA | B3: REQUISITO MINIMO | C3: TipologiaEdificio | D3: =Tabella4[[#This Row],[ATTRIBUTO DI RIFERIMENTO]] -> TipologiaEdificio | E3: Text | H3: INFO PROGETTO | I3: Progetto | J3: B | K3: X | L3: - | M3: Per immobili: compilare con la tipologia dell'edificio (assistenza, uffici, museale, bagni, mercati, etc.) Per oggetti informativi: specificare la tipologia di oggetto utile a descriverne l'entità | O3: PSet_ANAGRAFICA | P3: Anagrafica oggetto
A4: PSet_ANAGRAFICA | B4: REQUISITO MINIMO | C4: CubaturaServizioRidotto | D4: =Tabella4[[#This Row],[ATTRIBUTO DI RIFERIMENTO]] -> CubaturaServizioRidotto | E4: Number | H4: INFO PROGETTO | I4: Progetto | J4: B | K4: X | L4: - | M4: Cubatura a servizio ridotto dell'immobile per il servizio di manutenzione | O4: PSet_CLASSIFICAZIONE | P4: Classificazione
A5: PSet_ANAGRAFICA | B5: REQUISITO MINIMO | C5: DescrizioneAsset | D5: =Tabella4[[#This Row],[ATTRIBUTO DI RIFERIMENTO]] -> DescrizioneAsset | E5: Text | H5: INFO PROGETTO | I5: Progetto | J5: B | K5: X | L5: - | M5: Nominativo dell'immobile | O5: PSet_DIMENSIONI_QTO | P5: Computazione
A6: PSet_ANAGRAFICA | B6: REQUISITO MINIMO | C6: CodiceAsset | D6: =Tabella4[[#This Row],[ATTRIBUTO DI RIFERIMENTO]] -> CodiceAsset | E6: Text | H6: INFO PROGETTO | I6: Progetto | J6: B | K6: X | L6: - | M6: Codice dell'asset, numero di inventario dell'immobile per il servizio di manutenzione (codice numerico forinito dalla Stazione Appaltante) | O6: PSet_DATI_TECNICI | P6: Specifiche tecniche
A7: PSet_ANAGRAFICA | B7: REQUISITO MINIMO | C7: CodiceAssetEnergia | D7: =Tabella4[[#This Row],[ATTRIBUTO DI RIFERIMENTO]] -> CodiceAssetEnergia | E7: Text | H7: INFO PROGETTO | I7: Progetto | J7: B | K7: X | L7: - | O7: PSet_DOCUMENTI | P7: Documenti
A8: PSet_ANAGRAFICA | B8: REQUISITO MINIMO | C8: IndirizzoEdificio | D8: =Tabella4[[#This Row],[ATTRIBUTO DI RIFERIMENTO]] -> IndirizzoEdificio | E8: Text | H8: INFO PROGETTO | I8: Progetto | J8: B | K8: X | L8: - | M8: Indirizzo dell'immobile o dell'oggetto informativo | O8: PSet_WBS | P8: Programma Lavori
A9: PSet_ANAGRAFICA | B9: REQUISITO MINIMO | C9: CubaturaEdificio | D9: =Tabella4[[#This Row],[ATTRIBUTO DI RIFERIMENTO]] -> CubaturaEdificio | E9: Number | H9: INFO PROGETTO | I9: Progetto | J9: B | K9: X | L9: - | M9: Cubatura dell'immobile per il servizio di manutenzione | O9: PSet_MANUTENZIONE | P9: Manutenzione
A10: PSet_ANAGRAFICA | B10: REQUISITO MINIMO | C10: Data | D10: =Tabella4[[#This Row],[ATTRIBUTO DI RIFERIMENTO]] -> Data | E10: Text | H10: INFO PROGETTO | I10: Progetto | J10: B | K10: X | L10: - | O10: PSet_CATASTO | P10: Dati catastali
A11: PSet_ANAGRAFICA | B11: REQUISITO MINIMO | C11: Revisione | D11: =Tabella4[[#This Row],[ATTRIBUTO DI RIFERIMENTO]] -> Revisione | E11: Text | H11: INFO PROGETTO | I11: Progetto | J11: B | K11: X | L11: - | O11: PSet_ENERGIA | P11: Dati legati alla gestione energetica
A12: PSet_ANAGRAFICA | B12: REQUISITO MINIMO | C12: CodicePiano | D12: =Tabella4[[#This Row],[ATTRIBUTO DI RIFERIMENTO]] -> CodicePiano | E12: Text | H12: ISTANZA | I12: Tutte le categorie | J12: B | K12: X | L12: - | M12: Livello a cui è associato l'oggetto | O12: PSet_GREENSPACES | P12: Dati legati ai GreenSpaces
A13: PSet_ANAGRAFICA | B13: REQUISITO MINIMO | C13: DescrizionePiano | D13: =Tabella4[[#This Row],[ATTRIBUTO DI RIFERIMENTO]] -> DescrizionePiano | E13: Text | H13: ISTANZA | I13: Tutte le categorie | J13: B | K13: X | L13: - | M13: Livello a cui è associato l'oggetto
A14: PSet_ANAGRAFICA | B14: REQUISITO MINIMO | C14: NumeroLocale | D14: =Tabella4[[#This Row],[ATTRIBUTO DI RIFERIMENTO]] -> NumeroLocale | E14: Text | H14: ISTANZA | I14: Tutte le categorie | J14: B | K14: X | L14: - | M14: Codice del locale in cui è inserito l'oggetto
A15: PSet_ANAGRAFICA | B15: REQUISITO MINIMO | C15: DestinazioneUsoLocale | D15: =Tabella4[[#This Row],[ATTRIBUTO DI RIFERIMENTO]] -> DestinazioneUsoLocale | E15: Text | H15: ISTANZA | I15: Tutte le categorie | J15: B | K15: X | L15: - | M15: Destinazione d'uso del locale in cui è inserito l'oggetto
A16: PSet_CLASSIFICAZIONE | B16: REQUISITO MINIMO | C16: Seriale | D16: =Tabella4[[#This Row],[ATTRIBUTO DI RIFERIMENTO]] -> Seriale | E16: Text | H16: ISTANZA | I16: Tutte le categorie | J16: F | K16: X | L16: X | M16: Modalità di compilazione: CodiceAsset_CodiceSottocategoria_ProgressivoOggetto (es.0048_FIN_00001)
A17: PSet_CLASSIFICAZIONE | B17: REQUISITO MINIMO | C17: CodicePadre | D17: =Tabella4[[#This Row],[ATTRIBUTO DI RIFERIMENTO]] -> CodicePadre | E17: Text | H17: ISTANZA | I17: Tutte le categorie | J17: F | K17: X | L17: -
A18: PSet_CLASSIFICAZIONE | B18: REQUISITO MINIMO | C18: CodiceFiglio | D18: =Tabella4[[#This Row],[ATTRIBUTO DI RIFERIMENTO]] -> CodiceFiglio | E18: Text | H18: ISTANZA | I18: Tutte le categorie | J18: C | K18: X | L18: -
A19: PSet_CLASSIFICAZIONE | B19: REQUISITO MINIMO | C19: NomeDispositivo | D19: =Tabella4[[#This Row],[ATTRIBUTO DI RIFERIMENTO]] -> NomeDispositivo | E19: Text | H19: ISTANZA | I19: Tutte le categorie | J19: D | K19: X | L19: -
A20: PSet_CLASSIFICAZIONE | B20: REQUISITO MINIMO | C20: DescrizioneDispositivo | D20: =Tabella4[[#This Row],[ATTRIBUTO DI RIFERIMENTO]] -> DescrizioneDispositivo | E20: Text | H20: ISTANZA | I20: Tutte le categorie | J20: D | K20: X | L20: -
A21: PSet_CLASSIFICAZIONE | B21: REQUISITO MINIMO | C21: CodiceDisciplina | D21: =Tabella4[[#This Row],[ATTRIBUTO DI RIFERIMENTO]] -> CodiceDisciplina | E21: Text | H21: ISTANZA | I21: Tutte le categorie | J21: D | K21: X | L21: - | M21: Vedi foglio classificazioni
A22: PSet_CLASSIFICAZIONE | B22: REQUISITO MINIMO | C22: Disciplina | D22: =Tabella4[[#This Row],[ATTRIBUTO DI RIFERIMENTO]] -> Disciplina | E22: Text | H22: ISTANZA | I22: Tutte le categorie | J22: D | K22: X | L22: - | M22: Vedi foglio classificazioni
A23: PSet_CLASSIFICAZIONE | B23: REQUISITO MINIMO | C23: Codicecategoria | D23: =Tabella4[[#This Row],[ATTRIBUTO DI RIFERIMENTO]] -> Codicecategoria | E23: Text | H23: ISTANZA | I23: Tutte le categorie | J23: D | K23: X | L23: - | M23: Vedi foglio classificazioni
A24: PSet_CLASSIFICAZIONE | B24: REQUISITO MINIMO | C24: Categoria | D24: =Tabella4[[#This Row],[ATTRIBUTO DI RIFERIMENTO]] -> Categoria | E24: Text | H24: ISTANZA | I24: Tutte le categorie | J24: B | K24: X | L24: - | M24: Vedi foglio classificazioni
A25: PSet_CLASSIFICAZIONE | B25: REQUISITO MINIMO | C25: Sottocategoria | D25: =Tabella4[[#This Row],[ATTRIBUTO DI RIFERIMENTO]] -> Sottocategoria | E25: Text | H25: ISTANZA | I25: Tutte le categorie | J25: B | K25: X | L25: - | M25: Vedi foglio classificazioni
A26: PSet_CLASSIFICAZIONE | B26: REQUISITO MINIMO | C26: Codicesottocategoria | D26: =Tabella4[[#This Row],[ATTRIBUTO DI RIFERIMENTO]] -> Codicesottocategoria | E26: Text | H26: ISTANZA | I26: Tutte le categorie | J26: D | K26: X | L26: - | M26: Vedi foglio classificazioni
A27: PSet_CLASSIFICAZIONE | B27: REQUISITO MINIMO | C27: ProgressivoOggetto | D27: =Tabella4[[#This Row],[ATTRIBUTO DI RIFERIMENTO]] -> ProgressivoOggetto | E27: Number | H27: ISTANZA | I27: Tutte le categorie | J27: B | K27: X | L27: - | M27: Progressivo di quella sottocategoria in quell'edificio o asset. Da 00001 a 99999
A28: PSet_CLASSIFICAZIONE | B28: REQUISITO MINIMO | C28: ClashGroup | D28: =Tabella4[[#This Row],[ATTRIBUTO DI RIFERIMENTO]] -> ClashGroup | E28: Number | H28: ISTANZA | I28: Tutte le categorie | J28: B | K28: X | L28: -
A29: PSet_CATASTO | B29: REQUISITO MINIMO | C29: ComuneAmministrativo | D29: =Tabella4[[#This Row],[ATTRIBUTO DI RIFERIMENTO]] -> ComuneAmministrativo | E29: Text | H29: ISTANZA | I29: Progetto | J29: B | K29: X | L29: -
A30: PSet_CATASTO | B30: REQUISITO MINIMO | C30: ComuneCensuario | D30: =Tabella4[[#This Row],[ATTRIBUTO DI RIFERIMENTO]] -> ComuneCensuario | E30: Text | H30: ISTANZA | I30: Progetto | J30: B | K30: X | L30: -
A31: PSet_CATASTO | B31: REQUISITO MINIMO | C31: SezioneCensuaria | D31: =Tabella4[[#This Row],[ATTRIBUTO DI RIFERIMENTO]] -> SezioneCensuaria | E31: Text | H31: ISTANZA | I31: Progetto | J31: B | K31: X | L31: -
A32: PSet_CATASTO | B32: REQUISITO MINIMO | C32: Foglio | D32: =Tabella4[[#This Row],[ATTRIBUTO DI RIFERIMENTO]] -> Foglio | E32: Text | H32: ISTANZA | I32: Progetto | J32: B | K32: X | L32: -
A33: PSet_CATASTO | B33: REQUISITO MINIMO | C33: Mappale | D33: =Tabella4[[#This Row],[ATTRIBUTO DI RIFERIMENTO]] -> Mappale | E33: Text | H33: ISTANZA | I33: Progetto | J33: B | K33: X | L33: -
A34: PSet_CATASTO | B34: REQUISITO MINIMO | C34: Proprietari | D34: =Tabella4[[#This Row],[ATTRIBUTO DI RIFERIMENTO]] -> Proprietari | E34: Text | H34: ISTANZA | I34: Progetto | J34: B | K34: X | L34: -
A35: PSet_CATASTO | B35: REQUISITO MINIMO | C35: SezioneUrbana | D35: =Tabella4[[#This Row],[ATTRIBUTO DI RIFERIMENTO]] -> SezioneUrbana | E35: Text | H35: ISTANZA | I35: Progetto | J35: B | K35: X | L35: -
A36: PSet_CATASTO | B36: REQUISITO MINIMO | C36: Particella | D36: =Tabella4[[#This Row],[ATTRIBUTO DI RIFERIMENTO]] -> Particella | E36: Text | H36: ISTANZA | I36: Progetto | J36: B | K36: X | L36: -
A37: PSet_CATASTO | B37: REQUISITO MINIMO | C37: Subalterno | D37: =Tabella4[[#This Row],[ATTRIBUTO DI RIFERIMENTO]] -> Subalterno | E37: Text | H37: ISTANZA | I37: Progetto | J37: B | K37: X | L37: - | M37: Se il parametro non è noto compilare con '-'.
A38: PSet_CATASTO | B38: REQUISITO MINIMO | C38: CategoriaCatastale | D38: =Tabella4[[#This Row],[ATTRIBUTO DI RIFERIMENTO]] -> CategoriaCatastale | E38: Text | H38: ISTANZA | I38: Progetto | J38: B | K38: X | L38: -
A39: PSet_CATASTO | B39: REQUISITO MINIMO | C39: Consistenza | D39: =Tabella4[[#This Row],[ATTRIBUTO DI RIFERIMENTO]] -> Consistenza | E39: Number | H39: ISTANZA | I39: Progetto | J39: B | K39: X | L39: - | M39: Vani - mq dell'immobile
A40: PSet_CATASTO | B40: REQUISITO MINIMO | C40: NumeroAnagraficoCatastoStorico | D40: =Tabella4[[#This Row],[ATTRIBUTO DI RIFERIMENTO]] -> NumeroAnagraficoCatastoStorico | E40: Text | H40: ISTANZA | I40: Progetto | J40: B | K40: X | L40: - | M40: Codice di riferimento al catasto storico dell'immobile
A41: PSet_ENERGIA | B41: SI | C41: DestinazioneDUso | D41: =Tabella4[[#This Row],[ATTRIBUTO DI RIFERIMENTO]] -> DestinazioneDUso | E41: Text | H41: ISTANZA | I41: Tutte le categorie | J41: F | K41: - | L41: X | M41: Compilare con la destinazione d'uso prevista per l'appalto calore
A42: PSet_ENERGIA | B42: SI | C42: POD | D42: =Tabella4[[#This Row],[ATTRIBUTO DI RIFERIMENTO]] -> POD | E42: Text | H42: ISTANZA | I42: Tutte le categorie | J42: F | K42: - | L42: X
A43: PSet_ENERGIA | B43: SI | C43: PDR | D43: =Tabella4[[#This Row],[ATTRIBUTO DI RIFERIMENTO]] -> PDR | E43: Text | H43: ISTANZA | I43: Tutte le categorie | J43: F | K43: - | L43: X
A44: PSet_ENERGIA | B44: SI | C44: Consumi | D44: =Tabella4[[#This Row],[ATTRIBUTO DI RIFERIMENTO]] -> Consumi | E44: Number | H44: ISTANZA | I44: Tutte le categorie | J44: F | K44: - | L44: X
A45: PSet_ENERGIA | B45: SI | C45: CostiIVA | D45: =Tabella4[[#This Row],[ATTRIBUTO DI RIFERIMENTO]] -> CostiIVA | E45: Number | H45: ISTANZA | I45: Tutte le categorie | J45: F | K45: - | L45: X
A46: PSet_ENERGIA | B46: SI | C46: CostisenzaIVA | D46: =Tabella4[[#This Row],[ATTRIBUTO DI RIFERIMENTO]] -> CostisenzaIVA | E46: Number | H46: ISTANZA | I46: Tutte le categorie | J46: F | K46: - | L46: X
A47: PSet_ENERGIA | B47: SI | C47: QT1 | D47: =Tabella4[[#This Row],[ATTRIBUTO DI RIFERIMENTO]] -> QT1 | E47: Text | H47: ISTANZA | I47: Tutte le categorie | J47: F | K47: - | L47: X
A48: PSet_ENERGIA | B48: SI | C48: QT2 | D48: =Tabella4[[#This Row],[ATTRIBUTO DI RIFERIMENTO]] -> QT2 | E48: Text | H48: ISTANZA | I48: Tutte le categorie | J48: F | K48: - | L48: X
A49: PSet_ENERGIA | B49: SI | C49: QT3 | D49: =Tabella4[[#This Row],[ATTRIBUTO DI RIFERIMENTO]] -> QT3 | E49: Text | H49: ISTANZA | I49: Tutte le categorie | J49: F | K49: - | L49: X
A50: PSet_ENERGIA | B50: SI | C50: QE1 | D50: =Tabella4[[#This Row],[ATTRIBUTO DI RIFERIMENTO]] -> QE1 | E50: Text | H50: ISTANZA | I50: Tutte le categorie | J50: F | K50: - | L50: X
A51: PSet_ENERGIA | B51: SI | C51: QE2 | D51: =Tabella4[[#This Row],[ATTRIBUTO DI RIFERIMENTO]] -> QE2 | E51: Text | H51: ISTANZA | I51: Tutte le categorie | J51: F | K51: - | L51: X
A52: PSet_GREENSPACES | B52: REQUISITO MINIMO | C52: TipoGeometria | D52: =Tabella4[[#This Row],[ATTRIBUTO DI RIFERIMENTO]] -> TipoGeometria | E52: Text | H52: ISTANZA | I52: Tutte le categorie | J52: D | K52: - | L52: X | M52: S -> Superficie L -> Linea P -> Punti
A53: PSet_GREENSPACES | B53: REQUISITO MINIMO | C53: CodiceAttributo | D53: =Tabella4[[#This Row],[ATTRIBUTO DI RIFERIMENTO]] -> CodiceAttributo | E53: Number | H53: ISTANZA | I53: Tutte le categorie | J53: D | K53: - | L53: X
A54: PSet_GREENSPACES | B54: REQUISITO MINIMO | C54: CodiceTP | D54: =Tabella4[[#This Row],[ATTRIBUTO DI RIFERIMENTO]] -> CodiceTP | E54: Number | H54: ISTANZA | I54: Tutte le categorie | J54: D | K54: - | L54: X
A55: PSet_GREENSPACES | B55: REQUISITO MINIMO | C55: CodiceTS | D55: =Tabella4[[#This Row],[ATTRIBUTO DI RIFERIMENTO]] -> CodiceTS | E55: Number | H55: ISTANZA | I55: Tutte le categorie | J55: D | K55: - | L55: X
A56: PSet_GREENSPACES | B56: REQUISITO MINIMO | C56: CoordinataX | D56: =Tabella4[[#This Row],[ATTRIBUTO DI RIFERIMENTO]] -> CoordinataX | E56: Text | H56: ISTANZA | I56: Tutte le categorie | J56: D | K56: - | L56: X
A57: PSet_GREENSPACES | B57: REQUISITO MINIMO | C57: CoordinataY | D57: =Tabella4[[#This Row],[ATTRIBUTO DI RIFERIMENTO]] -> CoordinataY | E57: Text | H57: ISTANZA | I57: Tutte le categorie | J57: D | K57: - | L57: X
A58: PSet_GREENSPACES | B58: REQUISITO MINIMO | C58: DataInizio | D58: =Tabella4[[#This Row],[ATTRIBUTO DI RIFERIMENTO]] -> DataInizio | E58: Text | H58: ISTANZA | I58: Tutte le categorie | J58: D | K58: - | L58: X
A59: PSet_GREENSPACES | B59: REQUISITO MINIMO | C59: Cartellino | D59: =Tabella4[[#This Row],[ATTRIBUTO DI RIFERIMENTO]] -> Cartellino | E59: Text | H59: ISTANZA | I59: Tutte le categorie | J59: D | K59: - | L59: X
A60: PSet_GREENSPACES | B60: REQUISITO MINIMO | C60: Diam.Chioma | D60: =Tabella4[[#This Row],[ATTRIBUTO DI RIFERIMENTO]] -> Diam.Chioma | E60: Text | H60: ISTANZA | I60: Tutte le categorie | J60: D | K60: - | L60: X
A61: PSet_GREENSPACES | B61: REQUISITO MINIMO | C61: Diam.Tronco | D61: =Tabella4[[#This Row],[ATTRIBUTO DI RIFERIMENTO]] -> Diam.Tronco | E61: Text | H61: ISTANZA | I61: Tutte le categorie | J61: D | K61: - | L61: X
A62: PSet_GREENSPACES | B62: REQUISITO MINIMO | C62: FaseFisiologica | D62: =Tabella4[[#This Row],[ATTRIBUTO DI RIFERIMENTO]] -> FaseFisiologica | E62: Data | H62: ISTANZA | I62: Tutte le categorie | J62: D | K62: - | L62: X
A63: PSet_GREENSPACES | B63: REQUISITO MINIMO | C63: FormaAlbero | D63: =Tabella4[[#This Row],[ATTRIBUTO DI RIFERIMENTO]] -> FormaAlbero | E63: Lunghezza | H63: ISTANZA | I63: Tutte le categorie | J63: D | K63: - | L63: X
A64: PSet_GREENSPACES | B64: REQUISITO MINIMO | C64: Genere | D64: =Tabella4[[#This Row],[ATTRIBUTO DI RIFERIMENTO]] -> Genere | E64: Lunghezza | H64: ISTANZA | I64: Tutte le categorie | J64: D | K64: - | L64: X
... A72: PSet_GREENSPACES | B72: REQUISITO MINIMO | C72: Varietà | D72: =Tabella4[[#This Row],[ATTRIBUTO DI RIFERIMENTO]] -> Varietà | E72: Number | H72: ISTANZA | I72: Tutte le categorie | J72: D | K72: - | L72: X
A73: PSet_GREENSPACES | B73: REQUISITO MINIMO | C73: CodiceLocalità | D73: =Tabella4[[#This Row],[ATTRIBUTO DI RIFERIMENTO]] -> CodiceLocalità | E73: Text | F73: 52.007E | H73: ISTANZA | I73: Tutte le categorie | J73: D | K73: - | L73: X
A74: PSet_DIMENSIONI_QTO | B74: SI | C74: Area | D74: =Tabella4[[#This Row],[ATTRIBUTO DI RIFERIMENTO]] -> Area | E74: Number | H74: ISTANZA | I74: Tutte le categorie | J74: D | K74: X | L74: -
A75: PSet_DIMENSIONI_QTO | B75: SI | C75: Perimetro | D75: =Tabella4[[#This Row],[ATTRIBUTO DI RIFERIMENTO]] -> Perimetro | E75: Lunghezza | H75: ISTANZA | I75: Tutte le categorie | J75: D | K75: X | L75: -
A76: PSet_DIMENSIONI_QTO | B76: SI | C76: Altezza | D76: =Tabella4[[#This Row],[ATTRIBUTO DI RIFERIMENTO]] -> Altezza | E76: Lunghezza | H76: ISTANZA | I76: Tutte le categorie | J76: D | K76: X | L76: -
A77: PSet_DIMENSIONI_QTO | B77: SI | C77: Lunghezza | D77: =Tabella4[[#This Row],[ATTRIBUTO DI RIFERIMENTO]] -> Lunghezza | E77: Lunghezza | H77: ISTANZA | I77: Tutte le categorie | J77: D | K77: X | L77: -
A78: PSet_DIMENSIONI_QTO | B78: SI | C78: Larghezza | D78: =Tabella4[[#This Row],[ATTRIBUTO DI RIFERIMENTO]] -> Larghezza | E78: Lunghezza | H78: ISTANZA | I78: Tutte le categorie | J78: D | K78: X | L78: -
A79: PSet_DIMENSIONI_QTO | B79: SI | C79: Diametro | D79: =Tabella4[[#This Row],[ATTRIBUTO DI RIFERIMENTO]] -> Diametro | E79: Lunghezza | H79: ISTANZA | I79: Tutte le categorie | J79: D | K79: X | L79: -
A80: PSet_DIMENSIONI_QTO | B80: SI | C80: Peso | D80: =Tabella4[[#This Row],[ATTRIBUTO DI RIFERIMENTO]] -> Peso | E80: Peso | H80: ISTANZA | I80: Tutte le categorie | J80: D | K80: X | L80: -
A81: PSet_DIMENSIONI_QTO | B81: SI | C81: NumeroElementi | D81: =Tabella4[[#This Row],[ATTRIBUTO DI RIFERIMENTO]] -> NumeroElementi | E81: Number | H81: ISTANZA | I81: Tutte le categorie | J81: D | K81: X | L81: -
A82: PSet_DIMENSIONI_QTO | B82: SI | C82: Volume | D82: =Tabella4[[#This Row],[ATTRIBUTO DI RIFERIMENTO]] -> Volume | E82: Volume | H82: ISTANZA | I82: Tutte le categorie | J82: D | K82: X | L82: -
A83: PSet_DIMENSIONI_QTO | B83: SI | C83: Quantità | D83: =Tabella4[[#This Row],[ATTRIBUTO DI RIFERIMENTO]] -> Quantità | E83: Number | H83: ISTANZA | I83: Tutte le categorie | J83: D | K83: X | L83: -
A84: PSet_DIMENSIONI_QTO | B84: SI | C84: Spessore | D84: =Tabella4[[#This Row],[ATTRIBUTO DI RIFERIMENTO]] -> Spessore | E84: Lunghezza | H84: ISTANZA | I84: Tutte le categorie | J84: D | K84: X | L84: -
A85: PSet_DIMENSIONI_QTO | B85: SI | C85: Materiale | D85: =Tabella4[[#This Row],[ATTRIBUTO DI RIFERIMENTO]] -> Materiale | E85: Text | H85: ISTANZA | I85: Tutte le categorie | J85: D | K85: X | L85: -
... A96: PSet_WBS | B96: REQUISITO MINIMO | C96: WBSL4 | D96: =Tabella4[[#This Row],[ATTRIBUTO DI RIFERIMENTO]] -> WBSL4 | E96: Text | H96: ISTANZA | I96: Tutte le categorie | J96: B | K96: X | L96: -
A97: PSet_WBS | B97: REQUISITO MINIMO | C97: WBS | D97: =Tabella4[[#This Row],[ATTRIBUTO DI RIFERIMENTO]] -> WBS | E97: Text | H97: ISTANZA | I97: Tutte le categorie | J97: B | K97: X | L97: - | M97: Concatenamento delle WBS separate da "/"
A98: PSet_WBS | B98: REQUISITO MINIMO | C98: CodiceCronoprogramma | D98: =Tabella4[[#This Row],[ATTRIBUTO DI RIFERIMENTO]] -> CodiceCronoprogramma | E98: Text | H98: ISTANZA | I98: Tutte le categorie | J98: B | K98: X | L98: -
A99: PSet_WBS | B99: REQUISITO MINIMO | C99: Stato | D99: =Tabella4[[#This Row],[ATTRIBUTO DI RIFERIMENTO]] -> Stato | E99: Text | H99: ISTANZA | I99: Tutte le categorie | J99: B | K99: X | L99: -
A100: PSet_DOCUMENTI | B100: REQUISITO MINIMO | C100: Indagine | D100: =Tabella4[[#This Row],[ATTRIBUTO DI RIFERIMENTO]] -> Indagine | E100: Text | H100: ISTANZA | I100: Tutte le categorie | J100: B | K100: - | L100: X
A101: PSet_DOCUMENTI | B101: REQUISITO MINIMO | C101: ProvaMateriale | D101: =Tabella4[[#This Row],[ATTRIBUTO DI RIFERIMENTO]] -> ProvaMateriale | E101: Text | H101: ISTANZA | I101: Tutte le categorie | J101: B | K101: - | L101: X
A102: PSet_DOCUMENTI | B102: REQUISITO MINIMO | C102: SchedaTecnica | D102: =Tabella4[[#This Row],[ATTRIBUTO DI RIFERIMENTO]] -> SchedaTecnica | E102: Text | H102: ISTANZA | I102: Tutte le categorie | J102: B | K102: - | L102: X
A103: PSet_DOCUMENTI | B103: REQUISITO MINIMO | C103: Certificazione | D103: =Tabella4[[#This Row],[ATTRIBUTO DI RIFERIMENTO]] -> Certificazione | E103: Text | H103: ISTANZA | I103: Tutte le categorie | J103: B | K103: - | L103: X
A104: PSet_DOCUMENTI | B104: REQUISITO MINIMO | C104: ManualeManutenzione | D104: =Tabella4[[#This Row],[ATTRIBUTO DI RIFERIMENTO]] -> ManualeManutenzione | E104: Text | H104: ISTANZA | I104: Tutte le categorie | J104: B | K104: - | L104: X
A105: PSet_DOCUMENTI | B105: REQUISITO MINIMO | C105: CRE | D105: =Tabella4[[#This Row],[ATTRIBUTO DI RIFERIMENTO]] -> CRE | E105: Text | H105: ISTANZA | I105: Tutte le categorie | J105: B | K105: - | L105: X
A106: PSet_DOCUMENTI | B106: REQUISITO MINIMO | C106: Collaudo | D106: =Tabella4[[#This Row],[ATTRIBUTO DI RIFERIMENTO]] -> Collaudo | E106: Text | H106: ISTANZA | I106: Tutte le categorie | J106: B | K106: - | L106: X
A107: PSet_DOCUMENTI | B107: REQUISITO MINIMO | C107: Conformità | D107: =Tabella4[[#This Row],[ATTRIBUTO DI RIFERIMENTO]] -> Conformità | E107: Text | H107: ISTANZA | I107: Tutte le categorie | J107: B | K107: - | L107: X
A108: PSet_MANUTENZIONE | B108: SI | C108: SottopostoAManutenzione | D108: =Tabella4[[#This Row],[ATTRIBUTO DI RIFERIMENTO]] -> SottopostoAManutenzione | E108: SI/NO | H108: ISTANZA | I108: Tutte le categorie | J108: B | K108: X | L108: -
A109: PSet_MANUTENZIONE | B109: SI | C109: ManutenzioneProgrammata | D109: =Tabella4[[#This Row],[ATTRIBUTO DI RIFERIMENTO]] -> ManutenzioneProgrammata | E109: Text | H109: ISTANZA | I109: Tutte le categorie | J109: B | K109: - | L109: X
... A119: PSet_MANUTENZIONE | B119: SI | C119: IdentificativoPresa | D119: =Tabella4[[#This Row],[ATTRIBUTO DI RIFERIMENTO]] -> IdentificativoPresa | E119: Number | H119: ISTANZA | I119: Tutte le categorie | J119: F | K119: - | L119: X
A120: PSet_MANUTENZIONE | B120: SI | C120: CategoriaCavo | D120: =Tabella4[[#This Row],[ATTRIBUTO DI RIFERIMENTO]] -> CategoriaCavo | E120: Number | H120: ISTANZA | I120: Tutte le categorie | J120: F | K120: - | L120: X | M120: 3,5,5E,6,6A,7
A121: PSet_MANUTENZIONE | B121: SI | C121: CertificazioneTDR | D121: =Tabella4[[#This Row],[ATTRIBUTO DI RIFERIMENTO]] -> CertificazioneTDR | E121: Text | H121: ISTANZA | I121: Tutte le categorie | J121: F | K121: - | L121: X
A122: PSet_MANUTENZIONE | B122: SI | C122: FOV | D122: =Tabella4[[#This Row],[ATTRIBUTO DI RIFERIMENTO]] -> FOV | E122: Number | H122: ISTANZA | I122: Tutte le categorie | J122: F | K122: - | L122: X | M122: Dimensione del campo visuale (360, 180, 90)
A123: PSet_MANUTENZIONE | B123: SI | C123: NumeroPreseAlimentazione | D123: =Tabella4[[#This Row],[ATTRIBUTO DI RIFERIMENTO]] -> NumeroPreseAlimentazione | E123: Integer | H123: ISTANZA | I123: Tutte le categorie | J123: F | K123: - | L123: X
A124: PSet_MANUTENZIONE | B124: SI | C124: DorsaleN(1-x) | D124: =Tabella4[[#This Row],[ATTRIBUTO DI RIFERIMENTO]] -> DorsaleN(1-x) | E124: Number | H124: ISTANZA | I124: Tutte le categorie | J124: F | K124: - | L124: X
A125: PSet_MANUTENZIONE | B125: SI | C125: DorsaleN(1-x)Tipologia | D125: =Tabella4[[#This Row],[ATTRIBUTO DI RIFERIMENTO]] -> DorsaleN(1-x)Tipologia | E125: Text | H125: ISTANZA | I125: Tutte le categorie | J125: F | K125: - | L125: X
A126: PSet_MANUTENZIONE | B126: SI | C126: DorsaleN(1-x)DestinazioneRack | D126: =Tabella4[[#This Row],[ATTRIBUTO DI RIFERIMENTO]] -> DorsaleN(1-x)DestinazioneRack | E126: Text | H126: ISTANZA | I126: Tutte le categorie | J126: F | K126: - | L126: X | M126: OS2, OM1, OM2, OM3, OM4
...

Sheet CLASSIFICAZIONI_E_LOG
A1: STANDARD GENERALE DISCIPLINE | D1: STANDARD CATEGORIE | G1: STANDARD GENERALE CLASSIFICAZIONE ELEMENTI | M1: LOG | R1: CLASH GROUP
A2: Disciplina | B2: CodiceDisciplina | D2: Categoria | E2: CodiceCategoria | G2: CodiceDisciplina | H2: Categoria | I2: CodiceCategoria | J2: Sottocategoria | K2: Codicesottocategoria | L2: NOTE | M2: RILIEVO (LOG-LOA) | N2: PFTE | O2: ESE | P2: COS | Q2: ASB | R2: ClashGroup
A3: Generale | B3: GEN | D3: AriaCompressa | E3: AC | G3: STR | H3: Fondazioni | I3: FN | J3: MAGRONE | K3: MAG | M3: D-20x | N3: B | O3: C | P3: D/E | Q3: F
A4: Strip-out e demolizioni | B4: DEM | D4: ImpiantoAntincendio | E4: AN | G4: STR | H4: Fondazioni | I4: FN | J4: PLINTO | K4: PLT | M4: D-20x | N4: B | O4: C | P4: D/E | Q4: F
A5: Scavi e movimenti terra | B5: SCV | D5: ImpiantoCondizionamento | E5: IC | G5: STR | H5: Fondazioni | I5: FN | J5: TRAVE_ROVESCIA | K5: TRR | M5: D-20x | N5: B | O5: C | P5: D/E | Q5: F
A6: Opere strutturali | B6: STR | D6: ImpiantoRiscaldamento | E6: IR | G6: STR | H6: Fondazioni | I6: FN | J6: PLATEA | K6: PLA | M6: D-20x | N6: B | O6: C | P6: D/E | Q6: F
A7: Opere architettoniche | B7: ARC | D7: ImpiantoFognario | E7: IF | G7: STR | H7: Fondazioni | I7: FN | J7: ARMATURA | K7: ARM | M7: D-20x | N7: B | O7: C | P7: D/E | Q7: F
A8: Impianti elettrici | B8: ELE | D8: ImpiantoIdrico | E8: II | G8: STR | H8: Fondazioni | I8: FN | J8: CASSERO | K8: CAS | M8: D-20x | N8: B | O8: C | P8: D/E | Q8: F
A9: Impianti meccanici | B9: MEC | D9: ImpiantoElettrico | E9: EL | G9: STR | H9: Fondazioni | I9: FN | J9: MICROPALO | K9: MPL | M9: D-20x | N9: B | O9: C | P9: D/E | Q9: F
A10: Impianti antincendio | B10: VVF | D10: IlluminazioneStradale | E10: IS | G10: STR | H10: Fondazioni | I10: FN | J10: PALO | K10: PAL | M10: D-20x | N10: B | O10: C | P10: D/E | Q10: F
A11: Impianti elevatori | B11: LIF | D11: Telecominicazioni | E11: TC | G11: STR | H11: Fondazioni | I11: FN | J11: JET_GROUTING | K11: JGT | M11: D-20x | N11: B | O11: C | P11: D/E | Q11: F
A12: Opere restauro | B12: RES | D12: ImpiantoSicurezza | E12: SI | G12: STR | H12: Fondazioni | I12: FN | J12: TRAVE_DI_CORONAMENTO | K12: TRO | M12: D-20x | N12: B | O12: C | P12: D/E | Q12: F
A13: Sicurezza | B13: SIC | D13: Fondazioni | E13: FN | G13: STR | H13: Fondazioni | I13: FN | J13: DIAFRAMMA | K13: DIF | M13: D-20x | N13: B | O13: C | P13: D/E | Q13: F
A14: Illuminotecnica | B14: ILL | D14: MovimentiTerra | E14: MV | G14: STR | H14: Fondazioni | I14: FN | J14: SOLETTONE | K14: SOE | M14: D-20x | N14: B | O14: C | P14: D/E | Q14: F
... A30: Verifica | B30: VER | D30: GreenSpaces | E30: GS | G30: STR | H30: StruttureInElevazione | I30: ST | J30: TRAVE_PREFABBRICATA | K30: TRP | M30: D-20x | N30: B | O30: C | P30: D/E | Q30: F
A31: Gara | B31: GAR | G31: STR | H31: StruttureInElevazione | I31: ST | J31: TRAVETTO | K31: TRV | M31: D-20x | N31: B | O31: C | P31: D/E | Q31: F
A32: Gestionale | B32: GES | G32: STR | H32: StruttureInElevazione | I32: ST | J32: SETTO_IN_CA | K32: SEC | M32: D-20x | N32: B | O32: C | P32: D/E | Q32: F
A33: Collaudo | B33: COL | G33: STR | H33: StruttureInElevazione | I33: ST | J33: ARMATURA | K33: ARM | M33: D-20x | N33: B | O33: C | P33: D/E | Q33: F
A34: Direzione lavori | B34: DLL | G34: STR | H34: StruttureInElevazione | I34: ST | J34: CASSERO | K34: CAS | M34: D-20x | N34: B | O34: C | P34: D/E | Q34: F
A35: Documenti contrattuali ed economici | B35: DCE | G35: STR | H35: StruttureInElevazione | I35: ST | J35: MURATURA_PORTANTE | K35: MUP | M35: D-20x | N35: B | O35: C | P35: D/E | Q35: F
A36: Stato Avanzamento Lavori | B36: SAL | G36: STR | H36: StruttureInElevazione | I36: ST | J36: IMPERMEABILIZZAZIONE_FONDAZIONI | K36: IMF | M36: D-20x | N36: B | O36: C | P36: D/E | Q36: F
A37: Programmazione Lavori | B37: PLV | G37: STR | H37: StruttureInElevazione | I37: ST | J37: SOLAIO_IN_CA | K37: SOC | M37: D-20x | N37: B | O37: C | P37: D/E | Q37: F
A38: Computo Metrico Estimativo | B38: CME | G38: STR | H38: StruttureInElevazione | I38: ST | J38: SOLAIO_IN_ACCIAIO | K38: SOA | M38: D-20x | N38: B | O38: C | P38: D/E | Q38: F
G39: STR | H39: StruttureInElevazione | I39: ST | J39: SOLAIO_IN_LEGNO | K39: SOL | M39: D-20x | N39: B | O39: C | P39: D/E | Q39: F
G40: STR | H40: StruttureInElevazione | I40: ST | J40: SOLAIO_PREFABBRICATO | K40: SOP | M40: D-20x | N40: B | O40: C | P40: D/E | Q40: F
G41: STR | H41: StruttureInElevazione | I41: ST | J41: SOLAIO_IN_LATEROCEMENTO | K41: SOT | M41: D-20x | N41: B | O41: C | P41: D/E | Q41: F
G42: STR | H42: StruttureInElevazione | I42: ST | J42: SOLETTA_COLLABORANTE | K42: SCO | M42: D-20x | N42: B | O42: C | P42: D/E | Q42: F
G43: STR | H43: StruttureInElevazione | I43: ST | J43: SOTTOFONDO | K43: STT | M43: D-20x | N43: B | O43: C | P43: D/E | Q43: F
G44: STR | H44: StruttureInElevazione | I44: ST | J44: CONTROVENTO | K44: CON | M44: D-20x | N44: B | O44: C | P44: D/E | Q44: F
G45: STR | H45: StruttureInElevazione | I45: ST | J45: CORDOLO | K45: COR | M45: D-20x | N45: B | O45: C | P45: D/E | Q45: F
G46: STR | H46: StruttureInElevazione | I46: ST | J46: GIUNTO | K46: GIU | M46: D-20x | N46: B | O46: C | P46: D/E | Q46: F
G47: STR | H47: StruttureInElevazione | I47: ST | J47: PIASTRA | K47: PIS | M47: D-20x | N47: B | O47: C | P47: D/E | Q47: F
G48: STR | H48: StruttureInElevazione | I48: ST | J48: ANCORAGGIO | K48: ANC | M48: D-20x | N48: B | O48: C | P48: D/E | Q48: F
G49: STR | H49: StruttureInElevazione | I49: ST | J49: RAMPA_IN_CA | K49: RAC | M49: D-20x | N49: B | O49: C | P49: D/E | Q49: F
G50: STR | H50: StruttureInElevazione | I50: ST | J50: RAMPA_IN_PREFABBRICATO | K50: RAP | M50: D-20x | N50: B | O50: C | P50: D/E | Q50: F
... G320: TCS | H320: Telecomunicazioni | I320: TC | J320: MUFFOLA_FIBRA_OTTICA | K320: MFO | M320: D-20x | N320: B | O320: C | P320: D/E | Q320: F

Sheet LOI
C1: PG DI RIFERIMENTO IFC------> | D1: {=TRANSPOSE('DATABASE PARAMETRI'!B12:B272)} -> REQUISITO MINIMO | E1: REQUISITO MINIMO | F1: REQUISITO MINIMO | G1: REQUISITO MINIMO | H1: REQUISITO MINIMO | I1: REQUISITO MINIMO | J1: REQUISITO MINIMO | K1: REQUISITO MINIMO | L1: REQUISITO MINIMO | M1: REQUISITO MINIMO | N1: REQUISITO MINIMO | O1: REQUISITO MINIMO | P1: REQUISITO MINIMO | Q1: REQUISITO MINIMO | R1: REQUISITO MINIMO | S1: REQUISITO MINIMO | T1: REQUISITO MINIMO | U1: REQUISITO MINIMO | V1: REQUISITO MINIMO | W1: REQUISITO MINIMO | X1: REQUISITO MINIMO | Y1: REQUISITO MINIMO | Z1: REQUISITO MINIMO | AA1: REQUISITO MINIMO | AB1: REQUISITO MINIMO | AC1: REQUISITO MINIMO | AD1: REQUISITO MINIMO | AE1: REQUISITO MINIMO | AF1: REQUISITO MINIMO | AG1: SI | AH1: SI | AI1: SI | AJ1: SI | AK1: SI | AL1: SI | AM1: SI | AN1: SI | AO1: SI | AP1: SI | AQ1: SI | AR1: REQUISITO MINIMO | AS1: REQUISITO MINIMO | AT1: REQUISITO MINIMO | AU1: REQUISITO MINIMO | AV1: REQUISITO MINIMO | AW1: REQUISITO MINIMO | AX1: REQUISITO MINIMO | AY1: REQUISITO MINIMO | AZ1: REQUISITO MINIMO | BA1: REQUISITO MINIMO | BB1: REQUISITO MINIMO | BC1: REQUISITO MINIMO | BD1: REQUISITO MINIMO | BE1: REQUISITO MINIMO | BF1: REQUISITO MINIMO | BG1: REQUISITO MINIMO | BH1: REQUISITO MINIMO | BI1: REQUISITO MINIMO | BJ1: REQUISITO MINIMO | BK1: REQUISITO MINIMO | BL1: REQUISITO MINIMO | BM1: REQUISITO MINIMO | BN1: SI | BO1: SI | BP1: SI | BQ1: SI | BR1: SI | BS1: SI | BT1: SI | BU1: SI | BV1: SI | BW1: SI | BX1: SI | BY1: SI | BZ1: SI | CA1: SI | CB1: SI | CC1: SI | CD1: SI | CE1: SI | CF1: REQUISITO MINIMO | CG1: REQUISITO MINIMO | CH1: REQUISITO MINIMO | CI1: REQUISITO MINIMO | CJ1: REQUISITO MINIMO | CK1: REQUISITO MINIMO | CL1: REQUISITO MINIMO | CM1: REQUISITO MINIMO | CN1: REQUISITO MINIMO | CO1: REQUISITO MINIMO | CP1: REQUISITO MINIMO | CQ1: REQUISITO MINIMO | CR1: REQUISITO MINIMO | CS1: REQUISITO MINIMO | CT1: REQUISITO MINIMO | CU1: REQUISITO MINIMO | CV1: SI | CW1: SI | CX1: SI | CY1: SI | CZ1: SI | DA1: SI | DB1: SI | DC1: SI | DD1: SI | DE1: SI | DF1: SI | DG1: SI | DH1: SI | DI1: SI | DJ1: SI | DK1: SI | DL1: SI | DM1: SI | DN1: SI | DO1: SI | DP1: SI | DQ1: SI | DR1: SI | DS1: SI | DT1: SI | DU1: SI | DV1: SI | DW1: SI | DX1: SI | DY1: SI | DZ1: SI | EA1: SI | EB1: SI | EC1: SI | ED1: SI | EE1: SI | EF1: SI | EG1: SI | EH1: SI | EI1: SI | EJ1: SI | EK1: SI | EL1: SI | EM1: SI | EN1: SI | EO1: SI | EP1: SI | EQ1: SI | ER1: SI | ES1: SI | ET1: SI | EU1: SI | EV1: SI | EW1: SI | EX1: SI | EY1: SI | EZ1: SI | FA1: SI | FB1: SI | FC1: SI | FD1: SI | FE1: SI | FF1: SI | FG1: SI | FH1: SI | FI1: SI | FJ1: SI | FK1: SI | FL1: SI | FM1: SI | FN1: SI | FO1: SI | FP1: SI | FQ1: SI | FR1: SI | FS1: SI | FT1: SI | FU1: SI | FV1: SI | FW1: SI | FX1: SI | FY1: SI | FZ1: SI | GA1: SI | GB1: SI | GC1: SI | GD1: SI | GE1: SI | GF1: SI | GG1: SI | GH1: SI | GI1: SI | GJ1: SI | GK1: SI | GL1: SI | GM1: SI | GN1: SI | GO1: SI | GP1: SI | GQ1: SI | GR1: SI | GS1: SI | GT1: SI | GU1: SI | GV1: SI | GW1: SI | GX1: SI | GY1: SI | GZ1: SI | HA1: SI | HB1: SI | HC1: SI | HD1: SI | HE1: SI | HF1: SI | HG1: SI | HH1: SI | HI1: SI | HJ1: SI | HK1: SI | HL1: SI | HM1: SI | HN1: SI | HO1: SI | HP1: SI | HQ1: SI | HR1: SI | HS1: SI | HT1: SI | HU1: SI | HV1: SI | HW1: SI | HX1: SI | HY1: SI | HZ1: SI | IA1: SI | IB1: SI | IC1: SI | ID1: SI | IE1: SI | IF1: SI | IG1: SI | IH1: SI | II1: SI | IJ1: SI | IK1: SI | IL1: SI | IM1: SI | IN1: SI | IO1: SI | IP1: SI | IQ1: SI | IR1: SI | IS1: SI | IT1: SI | IU1: SI | IV1: SI | IW1: SI | IX1: SI | IY1: SI | IZ1: SI | JA1: SI | JB1: SI | JC1: SI
D2: {=TRANSPOSE('DATABASE PARAMETRI'!A12:A272)} -> PSet_ANAGRAFICA | E2: PSet_ANAGRAFICA | F2: PSet_ANAGRAFICA | G2: PSet_ANAGRAFICA | H2: PSet_CLASSIFICAZIONE | I2: PSet_CLASSIFICAZIONE | J2: PSet_CLASSIFICAZIONE | K2: PSet_CLASSIFICAZIONE | L2: PSet_CLASSIFICAZIONE | M2: PSet_CLASSIFICAZIONE | N2: PSet_CLASSIFICAZIONE | O2: PSet_CLASSIFICAZIONE | P2: PSet_CLASSIFICAZIONE | Q2: PSet_CLASSIFICAZIONE | R2: PSet_CLASSIFICAZIONE | S2: PSet_CLASSIFICAZIONE | T2: PSet_CLASSIFICAZIONE | U2: PSet_CATASTO | V2: PSet_CATASTO | W2: PSet_CATASTO | X2: PSet_CATASTO | Y2: PSet_CATASTO | Z2: PSet_CATASTO | AA2: PSet_CATASTO | AB2: PSet_CATASTO | AC2: PSet_CATASTO | AD2: PSet_CATASTO | AE2: PSet_CATASTO | AF2: PSet_CATASTO | AG2: PSet_ENERGIA | AH2: PSet_ENERGIA | AI2: PSet_ENERGIA | AJ2: PSet_ENERGIA | AK2: PSet_ENERGIA | AL2: PSet_ENERGIA | AM2: PSet_ENERGIA | AN2: PSet_ENERGIA | AO2: PSet_ENERGIA | AP2: PSet_ENERGIA | AQ2: PSet_ENERGIA | AR2: PSet_GREENSPACES | AS2: PSet_GREENSPACES | AT2: PSet_GREENSPACES | AU2: PSet_GREENSPACES | AV2: PSet_GREENSPACES | AW2: PSet_GREENSPACES | AX2: PSet_GREENSPACES | AY2: PSet_GREENSPACES | AZ2: PSet_GREENSPACES | BA2: PSet_GREENSPACES | BB2: PSet_GREENSPACES | BC2: PSet_GREENSPACES | BD2: PSet_GREENSPACES | BE2: PSet_GREENSPACES | BF2: PSet_GREENSPACES | BG2: PSet_GREENSPACES | BH2: PSet_GREENSPACES | BI2: PSet_GREENSPACES | BJ2: PSet_GREENSPACES | BK2: PSet_GREENSPACES | BL2: PSet_GREENSPACES | BM2: PSet_GREENSPACES | BN2: PSet_DIMENSIONI_QTO | BO2: PSet_DIMENSIONI_QTO | BP2: PSet_DIMENSIONI_QTO | BQ2: PSet_DIMENSIONI_QTO | BR2: PSet_DIMENSIONI_QTO | BS2: PSet_DIMENSIONI_QTO | BT2: PSet_DIMENSIONI_QTO | BU2: PSet_DIMENSIONI_QTO | BV2: PSet_DIMENSIONI_QTO | BW2: PSet_DIMENSIONI_QTO | BX2: PSet_DIMENSIONI_QTO | BY2: PSet_DIMENSIONI_QTO | BZ2: PSet_DIMENSIONI_QTO | CA2: PSet_DIMENSIONI_QTO | CB2: PSet_DIMENSIONI_QTO | CC2: PSet_DIMENSIONI_QTO | CD2: PSet_DIMENSIONI_QTO | CE2: PSet_DIMENSIONI_QTO | CF2: PSet_DIMENSIONI_QTO | CG2: PSet_WBS | CH2: PSet_WBS | CI2: PSet_WBS | CJ2: PSet_WBS | CK2: PSet_WBS | CL2: PSet_WBS | CM2: PSet_WBS | CN2: PSet_DOCUMENTI | CO2: PSet_DOCUMENTI | CP2: PSet_DOCUMENTI | CQ2: PSet_DOCUMENTI | CR2: PSet_DOCUMENTI | CS2: PSet_DOCUMENTI | CT2: PSet_DOCUMENTI | CU2: PSet_DOCUMENTI | CV2: PSet_MANUTENZIONE | CW2: PSet_MANUTENZIONE | CX2: PSet_MANUTENZIONE | CY2: PSet_MANUTENZIONE | CZ2: PSet_MANUTENZIONE | DA2: PSet_MANUTENZIONE | DB2: PSet_MANUTENZIONE | DC2: PSet_MANUTENZIONE | DD2: PSet_MANUTENZIONE | DE2: PSet_MANUTENZIONE | DF2: PSet_MANUTENZIONE | DG2: PSet_MANUTENZIONE | DH2: PSet_MANUTENZIONE | DI2: PSet_MANUTENZIONE | DJ2: PSet_MANUTENZIONE | DK2: PSet_MANUTENZIONE | DL2: PSet_MANUTENZIONE | DM2: PSet_MANUTENZIONE | DN2: PSet_MANUTENZIONE | DO2: PSet_MANUTENZIONE | DP2: PSet_MANUTENZIONE | DQ2: PSet_MANUTENZIONE | DR2: PSet_MANUTENZIONE | DS2: PSet_MANUTENZIONE | DT2: PSet_MANUTENZIONE | DU2: PSet_MANUTENZIONE | DV2: PSet_MANUTENZIONE | DW2: PSet_MANUTENZIONE | DX2: PSet_MANUTENZIONE | DY2: PSet_MANUTENZIONE | DZ2: PSet_MANUTENZIONE | EA2: PSet_MANUTENZIONE | EB2: PSet_MANUTENZIONE | EC2: PSet_MANUTENZIONE | ED2: PSet_MANUTENZIONE | EE2: PSet_MANUTENZIONE | EF2: PSet_MANUTENZIONE | EG2: PSet_MANUTENZIONE | EH2: PSet_MANUTENZIONE | EI2: PSet_MANUTENZIONE | EJ2: PSet_MANUTENZIONE | EK2: PSet_MANUTENZIONE | EL2: PSet_MANUTENZIONE | EM2: PSet_MANUTENZIONE | EN2: PSet_MANUTENZIONE | EO2: PSet_MANUTENZIONE | EP2: PSet_MANUTENZIONE | EQ2: PSet_MANUTENZIONE | ER2: PSet_MANUTENZIONE | ES2: PSet_MANUTENZIONE | ET2: PSet_MANUTENZIONE | EU2: PSet_MANUTENZIONE | EV2: PSet_MANUTENZIONE | EW2: PSet_MANUTENZIONE | EX2: PSet_MANUTENZIONE | EY2: PSet_MANUTENZIONE | EZ2: PSet_MANUTENZIONE | FA2: PSet_MANUTENZIONE | FB2: PSet_MANUTENZIONE | FC2: PSet_MANUTENZIONE | FD2: PSet_MANUTENZIONE | FE2: PSet_MANUTENZIONE | FF2: PSet_MANUTENZIONE | FG2: PSet_MANUTENZIONE | FH2: PSet_MANUTENZIONE | FI2: PSet_MANUTENZIONE | FJ2: PSet_MANUTENZIONE | FK2: PSet_MANUTENZIONE | FL2: PSet_MANUTENZIONE | FM2: PSet_MANUTENZIONE | FN2: PSet_MANUTENZIONE | FO2: PSet_MANUTENZIONE | FP2: PSet_MANUTENZIONE | FQ2: PSet_MANUTENZIONE | FR2: PSet_DATI_TECNICI | FS2: PSet_DATI_TECNICI | FT2: PSet_DATI_TECNICI | FU2: PSet_DATI_TECNICI | FV2: PSet_DATI_TECNICI | FW2: PSet_DATI_TECNICI | FX2: PSet_DATI_TECNICI | FY2: PSet_DATI_TECNICI | FZ2: PSet_DATI_TECNICI | GA2: PSet_DATI_TECNICI | GB2: PSet_DATI_TECNICI | GC2: PSet_DATI_TECNICI | GD2: PSet_DATI_TECNICI | GE2: PSet_DATI_TECNICI | GF2: PSet_DATI_TECNICI | GG2: PSet_DATI_TECNICI | GH2: PSet_DATI_TECNICI | GI2: PSet_DATI_TECNICI | GJ2: PSet_DATI_TECNICI | GK2: PSet_DATI_TECNICI | GL2: PSet_DATI_TECNICI | GM2: PSet_DATI_TECNICI | GN2: PSet_DATI_TECNICI | GO2: PSet_DATI_TECNICI | GP2: PSet_DATI_TECNICI | GQ2: PSet_DATI_TECNICI | GR2: PSet_DATI_TECNICI | GS2: PSet_DATI_TECNICI | GT2: PSet_DATI_TECNICI | GU2: PSet_DATI_TECNICI | GV2: PSet_DATI_TECNICI | GW2: PSet_DATI_TECNICI | GX2: PSet_DATI_TECNICI | GY2: PSet_DATI_TECNICI | GZ2: PSet_DATI_TECNICI | HA2: PSet_DATI_TECNICI | HB2: PSet_DATI_TECNICI | HC2: PSet_DATI_TECNICI | HD2: PSet_DATI_TECNICI | HE2: PSet_DATI_TECNICI | HF2: PSet_DATI_TECNICI | HG2: PSet_DATI_TECNICI | HH2: PSet_DATI_TECNICI | HI2: PSet_DATI_TECNICI | HJ2: PSet_DATI_TECNICI | HK2: PSet_DATI_TECNICI | HL2: PSet_DATI_TECNICI | HM2: PSet_DATI_TECNICI | HN2: PSet_DATI_TECNICI | HO2: PSet_DATI_TECNICI | HP2: PSet_DATI_TECNICI | HQ2: PSet_DATI_TECNICI | HR2: PSet_DATI_TECNICI | HS2: PSet_DATI_TECNICI | HT2: PSet_DATI_TECNICI | HU2: PSet_DATI_TECNICI | HV2: PSet_DATI_TECNICI | HW2: PSet_DATI_TECNICI | HX2: PSet_DATI_TECNICI | HY2: PSet_DATI_TECNICI | HZ2: PSet_DATI_TECNICI | IA2: PSet_DATI_TECNICI | IB2: PSet_DATI_TECNICI | IC2: PSet_DATI_TECNICI | ID2: PSet_DATI_TECNICI | IE2: PSet_DATI_TECNICI | IF2: PSet_DATI_TECNICI | IG2: PSet_DATI_TECNICI | IH2: PSet_DATI_TECNICI | II2: PSet_DATI_TECNICI | IJ2: PSet_DATI_TECNICI | IK2: PSet_DATI_TECNICI | IL2: PSet_DATI_TECNICI | IM2: PSet_DATI_TECNICI | IN2: PSet_DATI_TECNICI | IO2: PSet_DATI_TECNICI | IP2: PSet_DATI_TECNICI | IQ2: PSet_DATI_TECNICI | IR2: PSet_DATI_TECNICI | IS2: PSet_DATI_TECNICI | IT2: PSet_DATI_TECNICI | IU2: PSet_DATI_TECNICI | IV2: PSet_DATI_TECNICI | IW2: PSet_DATI_TECNICI | IX2: PSet_DATI_TECNICI | IY2: PSet_DATI_TECNICI | IZ2: PSet_DATI_TECNICI | JA2: PSet_DATI_TECNICI | JB2: PSet_DATI_TECNICI | JC2: PSet_DATI_TECNICI
C3: Presente nel modello BIM------> | D3: {=TRANSPOSE('DATABASE PARAMETRI'!K12:K272)} -> X | E3: X | F3: X | G3: X | H3: X | I3: X | J3: X | K3: X | L3: X | M3: X | N3: X | O3: X | P3: X | Q3: X | R3: X | S3: X | T3: X | U3: X | V3: X | W3: X | X3: X | Y3: X | Z3: X | AA3: X | AB3: X | AC3: X | AD3: X | AE3: X | AF3: X | AG3: - | AH3: - | AI3: - | AJ3: - | AK3: - | AL3: - | AM3: - | AN3: - | AO3: - | AP3: - | AQ3: - | AR3: - | AS3: - | AT3: - | AU3: - | AV3: - | AW3: - | AX3: - | AY3: - | AZ3: - | BA3: - | BB3: - | BC3: - | BD3: - | BE3: - | BF3: - | BG3: - | BH3: - | BI3: - | BJ3: - | BK3: - | BL3: - | BM3: - | BN3: X | BO3: X | BP3: X | BQ3: X | BR3: X | BS3: X | BT3: X | BU3: X | BV3: X | BW3: X | BX3: X | BY3: X | BZ3: X | CA3: X | CB3: X | CC3: X | CD3: X | CE3: X | CF3: X | CG3: X | CH3: X | CI3: X | CJ3: X | CK3: X | CL3: X | CM3: X | CN3: - | CO3: - | CP3: - | CQ3: - | CR3: - | CS3: - | CT3: - | CU3: - | CV3: X | CW3: - | CX3: - | CY3: - | CZ3: - | DA3: - | DB3: - | DC3: - | DD3: - | DE3: - | DF3: - | DG3: - | DH3: - | DI3: - | DJ3: - | DK3: - | DL3: - | DM3: - | DN3: - | DO3: - | DP3: - | DQ3: - | DR3: - | DS3: - | DT3: - | DU3: - | DV3: - | DW3: - | DX3: - | DY3: - | DZ3: - | EA3: - | EB3: - | EC3: - | ED3: - | EE3: - | EF3: - | EG3: - | EH3: - | EI3: - | EJ3: - | EK3: - | EL3: - | EM3: - | EN3: - | EO3: - | EP3: - | EQ3: - | ER3: - | ES3: - | ET3: - | EU3: - | EV3: - | EW3: - | EX3: - | EY3: - | EZ3: - | FA3: - | FB3: - | FC3: - | FD3: - | FE3: - | FF3: - | FG3: - | FH3: - | FI3: - | FJ3: - | FK3: - | FL3: - | FM3: - | FN3: - | FO3: - | FP3: - | FQ3: - | FR3: X | FS3: X | FT3: X | FU3: X | FV3: X | FW3: X | FX3: X | FY3: X | FZ3: X | GA3: X | GB3: X | GC3: X | GD3: X | GE3: X | GF3: X | GG3: X | GH3: X | GI3: X | GJ3: X | GK3: X | GL3: X | GM3: X | GN3: X | GO3: X | GP3: X | GQ3: X | GR3: X | GS3: X | GT3: X | GU3: X | GV3: X | GW3: X | GX3: X | GY3: X | GZ3: X | HA3: X | HB3: X | HC3: X | HD3: X | HE3: X | HF3: X | HG3: X | HH3: X | HI3: X | HJ3: X | HK3: X | HL3: X | HM3: X | HN3: X | HO3: X | HP3: X | HQ3: X | HR3: X | HS3: X | HT3: - | HU3: - | HV3: - | HW3: - | HX3: - | HY3: - | HZ3: - | IA3: - | IB3: - | IC3: - | ID3: - | IE3: - | IF3: X | IG3: X | IH3: - | II3: - | IJ3: - | IK3: X | IL3: X | IM3: - | IN3: - | IO3: X | IP3: - | IQ3: - | IR3: - | IS3: - | IT3: - | IU3: - | IV3: - | IW3: - | IX3: - | IY3: - | IZ3: X | JA3: X | JB3: X | JC3: -
C4: Presente nelle schede informative------> | D4: {=TRANSPOSE('DATABASE PARAMETRI'!L12:L272)} -> - | E4: - | F4: - | G4: - | H4: X | I4: - | J4: - | K4: - | L4: - | M4: - | N4: - | O4: - | P4: - | Q4: - | R4: - | S4: - | T4: - | U4: - | V4: - | W4: - | X4: - | Y4: - | Z4: - | AA4: - | AB4: - | AC4: - | AD4: - | AE4: - | AF4: - | AG4: X | AH4: X | AI4: X | AJ4: X | AK4: X | AL4: X | AM4: X | AN4: X | AO4: X | AP4: X | AQ4: X | AR4: X | AS4: X | AT4: X | AU4: X | AV4: X | AW4: X | AX4: X | AY4: X | AZ4: X | BA4: X | BB4: X | BC4: X | BD4: X | BE4: X | BF4: X | BG4: X | BH4: X | BI4: X | BJ4: X | BK4: X | BL4: X | BM4: X | BN4: - | BO4: - | BP4: - | BQ4: - | BR4: - | BS4: - | BT4: - | BU4: - | BV4: - | BW4: - | BX4: - | BY4: - | BZ4: - | CA4: - | CB4: - | CC4: - | CD4: - | CE4: - | CF4: - | CG4: - | CH4: - | CI4: - | CJ4: - | CK4: - | CL4: - | CM4: - | CN4: X | CO4: X | CP4: X | CQ4: X | CR4: X | CS4: X | CT4: X | CU4: X | CV4: - | CW4: X | CX4: X | CY4: X | CZ4: X | DA4: X | DB4: X | DC4: X | DD4: X | DE4: X | DF4: X | DG4: X | DH4: X | DI4: X | DJ4: X | DK4: X | DL4: X | DM4: X | DN4: X | DO4: X | DP4: X | DQ4: X | DR4: X | DS4: X | DT4: X | DU4: X | DV4: X | DW4: X | DX4: X | DY4: X | DZ4: X | EA4: X | EB4: X | EC4: X | ED4: X | EE4: X | EF4: X | EG4: X | EH4: X | EI4: X | EJ4: X | EK4: X | EL4: X | EM4: X | EN4: X | EO4: X | EP4: X | EQ4: X | ER4: X | ES4: X | ET4: X | EU4: X | EV4: X | EW4: X | EX4: X | EY4: X | EZ4: X | FA4: X | FB4: X | FC4: X | FD4: X | FE4: X | FF4: X | FG4: X | FH4: X | FI4: X | FJ4: X | FK4: X | FL4: X | FM4: X | FN4: X | FO4: X | FP4: X | FQ4: X | FR4: - | FS4: - | FT4: - | FU4: - | FV4: - | FW4: - | FX4: - | FY4: - | FZ4: - | GA4: - | GB4: - | GC4: - | GD4: - | GE4: - | GF4: - | GG4: - | GH4: - | GI4: - | GJ4: - | GK4: - | GL4: - | GM4: - | GN4: - | GO4: - | GP4: - | GQ4: - | GR4: - | GS4: - | GT4: - | GU4: - | GV4: - | GW4: - | GX4: - | GY4: - | GZ4: - | HA4: - | HB4: - | HC4: - | HD4: - | HE4: - | HF4: - | HG4: - | HH4: - | HI4: - | HJ4: - | HK4: - | HL4: - | HM4: - | HN4: - | HO4: - | HP4: - | HQ4: - | HR4: - | HS4: - | HT4: X | HU4: X | HV4: X | HW4: X | HX4: X | HY4: X | HZ4: X | IA4: X | IB4: X | IC4: X | ID4: X | IE4: X | IF4: - | IG4: - | IH4: X | II4: X | IJ4: X | IK4: - | IL4: - | IM4: X | IN4: X | IO4: - | IP4: X | IQ4: X | IR4: X | IS4: X | IT4: X | IU4: X | IV4: X | IW4: X | IX4: X | IY4: X | IZ4: - | JA4: - | JB4: - | JC4: X
A5: CodiceDisciplina | B5: Categoria | C5: Sottocategoria | D5: {=TRANSPOSE('DATABASE PARAMETRI'!D12:D272)} -> CodicePiano | E5: DescrizionePiano | F5: NumeroLocale | G5: DestinazioneUsoLocale | H5: Seriale | I5: CodicePadre | J5: CodiceFiglio | K5: NomeDispositivo | L5: DescrizioneDispositivo | M5: CodiceDisciplina | N5: Disciplina | O5: Codicecategoria | P5: Categoria | Q5: Sottocategoria | R5: Codicesottocategoria | S5: ProgressivoOggetto | T5: ClashGroup | U5: ComuneAmministrativo | V5: ComuneCensuario | W5: SezioneCensuaria | X5: Foglio | Y5: Mappale | Z5: Proprietari | AA5: SezioneUrbana | AB5: Particella | AC5: Subalterno | AD5: CategoriaCatastale | AE5: Consistenza | AF5: NumeroAnagraficoCatastoStorico | AG5: DestinazioneDUso | AH5: POD | AI5: PDR | AJ5: Consumi | AK5: CostiIVA | AL5: CostisenzaIVA | AM5: QT1 | AN5: QT2 | AO5: QT3 | AP5: QE1 | AQ5: QE2 | AR5: TipoGeometria | AS5: CodiceAttributo | AT5: CodiceTP | AU5: CodiceTS | AV5: CoordinataX | AW5: CoordinataY | AX5: DataInizio | AY5: Cartellino | AZ5: Diam.Chioma | BA5: Diam.Tronco | BB5: FaseFisiologica | BC5: FormaAlbero | BD5: Genere | BE5: NomeComune | BF5: PosizioneSociale | BG5: SitoDiCrescita | BH5: Specie | BI5: Tassonomia | BJ5: TipoAttrezzo | BK5: TipoDiContenitore | BL5: Varietà | BM5: CodiceLocalità | BN5: Area | BO5: Perimetro | BP5: Altezza | BQ5: Lunghezza | BR5: Larghezza | BS5: Diametro | BT5: Peso | BU5: NumeroElementi | BV5: Volume | BW5: Quantità | BX5: Spessore | BY5: Materiale | BZ5: AltezzaDaPavimento | CA5: SuperficieVetrata | CB5: AltezzaDiCaduta | CC5: ContrassegnoTipo | CD5: IDElemento | CE5: CategoriaSOA | CF5: CodiceEPU | CG5: WBSL1 | CH5: WBSL2 | CI5: WBSL3 | CJ5: WBSL4 | CK5: WBS | CL5: CodiceCronoprogramma | CM5: Stato | CN5: Indagine | CO5: ProvaMateriale | CP5: SchedaTecnica | CQ5: Certificazione | CR5: ManualeManutenzione | CS5: CRE | CT5: Collaudo | CU5: Conformità | CV5: SottopostoAManutenzione | CW5: ManutenzioneProgrammata | CX5: Presidi | CY5: AnnoProduzione | CZ5: Installazione | DA5: Marca | DB5: Modello | DC5: Produttore | DD5: Cod.Prodotto | DE5: Macaddress | DF5: SchedaManutenzione | DG5: IdentificativoPresa | DH5: CategoriaCavo | DI5: CertificazioneTDR | DJ5: FOV | DK5: NumeroPreseAlimentazione | DL5: DorsaleN(1-x) | DM5: DorsaleN(1-x)Tipologia | DN5: DorsaleN(1-x)DestinazioneRack | DO5: DorsaleN(1-x)NumeroDiFibreOttiche | DP5: DorsaleN(1-x)TipologiaBussole | DQ5: DorsaleN(1-x)Certificazione | DR5: RiferimentoRack | DS5: PosizioneGPS | DT5: IndirizzoIP | DU5: Archiver | DV5: Firmware | DW5: IndirizzoMAC | DX5: NIS | DY5: IndirizzoLinea | DZ5: PROF | EA5: SBRI1 | EB5: SBRI2 | EC5: SBRI3 | ED5: AMB | EE5: StatoFunzionamento | EF5: WiFiIDR | EG5: WiFiAPGR | EH5: WiFiAPIP | EI5: WiFiOutAPIP | EJ5: WifiAPTYP | EK5: WIFI_SWT | EL5: WIFI_2GCLI | EM5: WIFI_2GCN | EN5: WIFI_2GSTD | EO5: WIFI_5GCLI | EP5: WIFI_5GCN | EQ5: WIFI_5GSTD | ER5: WIFI_IPS | ES5: WIFI_LA | ET5: WIFI_BNA | EU5: WIFI_BGA | EV5: IndirizzoLineaSecondario | EW5: MUF_CAP | EX5: MUF_FREE | EY5: MUF_NOFREE | EZ5: TRT_START | FA5: TRT_END | FB5: TRT_STATO | FC5: TRT_DATA | FD5: TRT_CERT | FE5: TRT_SUPP | FF5: TRT_3TBCOM | FG5: TRT_3TBREG | FH5: TRT_3TBOPR | FI5: TRT_TFIB | FJ5: TRT_NFIB | FK5: Connessione | FL5: STA_BAT | FM5: EVE-230 | FN5: EVE-230A | FO5: EVE-230T | FP5: EVE-400 | FQ5: EVE-400A | FR5: Sottofondo | FS5: ClasseEsposizione | FT5: TipoCemento | FU5: ClasseResistenzaCalcestruzzo | FV5: ClasseConsistenza | FW5: RapportoAcquaCemento | FX5: ClasseResistenzaArmatura | FY5: Copriferro | FZ5: IncidenzaArmatura | GA5: Additivi | GB5: ClasseResistenzaLegno | GC5: Profilo | GD5: ClasseAcciaio | GE5: ClasseSaldature | GF5: ClasseResistenzaBulloni | GG5: TrattamentoSuperficiale | GH5: TipoMiscelaIniezione | GI5: DimensioneMaglia | GJ5: Pendenza | GK5: TipologiaDiSezione | GL5: NumeroDiTrefoli | GM5: Strutturale | GN5: CoefficienteDilatazioneTermica | GO5: ResistenzaATrazione | GP5: ResistenzaACompressione | GQ5: ScorrimentoMassimo | GR5: LayoutConci | GS5: PosizioneAnello | GT5: ProgressivaAnello | GU5: DirezioneDiScavo | GV5: Binario | GW5: Asse | GX5: Carreggiata | GY5: Finitura | GZ5: FinituraPavimento | HA5: FinituraMuro | HB5: FinituraBase | HC5: FinituraControsoffitto | HD5: AssorbimentoAcustico | HE5: IsolamentoAcustico | HF5: Trasmittanza | HG5: FattoreSolare | HH5: Alzata | HI5: Pedata | HJ5: NumeroAnte | HK5: Funzione | HL5: TipologiaOscurante | HM5: TipologiaApertura | HN5: TenutaAcqua | HO5: TenutaAria | HP5: PermeabilitàAria | HQ5: TipologiaTelaio | HR5: Capienza | HS5: ModuloPrefabbricato | HT5: Potenza | HU5: PotenzaAssorbita | HV5: NumeroModuli | HW5: NumeroLampade | HX5: TemperaturaColore | HY5: TensioneElettrica | HZ5: PressioneNominale | IA5: Prevalenza | IB5: Portata | IC5: Marcatura | ID5: CAM | IE5: IndiceRumorosità | IF5: PesoSpecifico | IG5: Densità | IH5: EfficienzaTermica | II5: Pressione | IJ5: GradoProtezione | IK5: ClassificazioneSistema | IL5: TipoSistema | IM5: PotenzaLuminosa | IN5: Illuminamento | IO5: Sezione | IP5: Isolamento | IQ5: Corrente | IR5: TipologiaRegolazione | IS5: TemperaturaFluidoInUscita | IT5: TemperaturaFluidoInEntrata | IU5: TipologiaFluido | IV5: Capacita | IW5: ResistenzaAlFuoco | IX5: Compartimentazione | IY5: UscitaEmergenza | IZ5: ReazioneAlFuoco | JA5: ElettromagneteRitenuta | JB5: ManiglioneAntipanico | JC5: Rvita
A6: STR | B6: Fondazioni | C6: MAGRONE | D6: X | E6: X | F6: X | G6: X | H6: X | I6: X | J6: X | K6: X | L6: X | M6: X | N6: X | O6: X | P6: X | Q6: X | R6: X | S6: X | T6: X | U6: X | V6: X | W6: X | X6: X | Y6: X | Z6: X | AA6: X | AB6: X | AC6: X | AO6: X | AP6: X | AQ6: X | AR6: X | AS6: X | AT6: X | AU6: X | AV6: X | AW6: X | AX6: X | AY6: X | AZ6: X | BA6: X | BB6: X | BC6: X | BD6: X | BE6: X | BF6: X | BG6: X | BH6: X | BI6: X | BW6: X | BX6: X | BY6: X | BZ6: X | CA6: X | CB6: X | CC6: X | CD6: X | CE6: X | CF6: X | CG6: X | CH6: X | CI6: X | CJ6: X
A7: STR | B7: Fondazioni | C7: PLINTO | D7: X | E7: X | F7: X | G7: X | H7: X | I7: X | J7: X | K7: X | L7: X | M7: X | N7: X | O7: X | P7: X | Q7: X | R7: X | S7: X | T7: X | U7: X | V7: X | W7: X | X7: X | Y7: X | Z7: X | AA7: X | AB7: X | AC7: X | AO7: X | AP7: X | AQ7: X | AR7: X | AS7: X | AT7: X | AU7: X | AV7: X | AW7: X | AX7: X | AY7: X | AZ7: X | BA7: X | BB7: X | BC7: X | BD7: X | BE7: X | BF7: X | BG7: X | BH7: X | BI7: X | BW7: X | BX7: X | BY7: X | BZ7: X | CA7: X | CB7: X | CC7: X | CD7: X | CE7: X | CF7: X | CG7: X | CH7: X | CI7: X | CJ7: X
A8: STR | B8: Fondazioni | C8: TRAVE_ROVESCIA | D8: X | E8: X | F8: X | G8: X | H8: X | I8: X | J8: X | K8: X | L8: X | M8: X | N8: X | O8: X | P8: X | Q8: X | R8: X | S8: X | T8: X | U8: X | V8: X | W8: X | X8: X | Y8: X | Z8: X | AA8: X | AB8: X | AC8: X | AO8: X | AP8: X | AQ8: X | AR8: X | AS8: X | AT8: X | AU8: X | AV8: X | AW8: X | AX8: X | AY8: X | AZ8: X | BA8: X | BB8: X | BC8: X | BD8: X | BE8: X | BF8: X | BG8: X | BH8: X | BI8: X | BW8: X | BX8: X | BY8: X | BZ8: X | CA8: X | CB8: X | CC8: X | CD8: X | CE8: X | CF8: X | CG8: X | CH8: X | CI8: X | CJ8: X
A9: STR | B9: Fondazioni | C9: PLATEA | D9: X | E9: X | F9: X | G9: X | H9: X | I9: X | J9: X | K9: X | L9: X | M9: X | N9: X | O9: X | P9: X | Q9: X | R9: X | S9: X | T9: X | U9: X | V9: X | W9: X | X9: X | Y9: X | Z9: X | AA9: X | AB9: X | AC9: X | AO9: X | AP9: X | AQ9: X | AR9: X | AS9: X | AT9: X | AU9: X | AV9: X | AW9: X | AX9: X | AY9: X | AZ9: X | BA9: X | BB9: X | BC9: X | BD9: X | BE9: X | BF9: X | BG9: X | BH9: X | BI9: X | BW9: X | BX9: X | BY9: X | BZ9: X | CA9: X | CB9: X | CC9: X | CD9: X | CE9: X | CF9: X | CG9: X | CH9: X | CI9: X | CJ9: X
A10: STR | B10: Fondazioni | C10: ARMATURA | D10: X | E10: X | F10: X | G10: X | H10: X | I10: X | J10: X | K10: X | L10: X | M10: X | N10: X | O10: X | P10: X | Q10: X | R10: X | S10: X | T10: X | U10: X | V10: X | W10: X | X10: X | Y10: X | Z10: X | AA10: X | AB10: X | AC10: X | AO10: X | AP10: X | AQ10: X | AR10: X | AS10: X | AT10: X | AU10: X | AV10: X | AW10: X | AX10: X | AY10: X | AZ10: X | BA10: X | BB10: X | BC10: X | BD10: X | BE10: X | BF10: X | BG10: X | BH10: X | BI10: X | BW10: X | BX10: X | BY10: X | BZ10: X | CA10: X | CB10: X | CC10: X | CD10: X | CE10: X | CF10: X | CG10: X | CH10: X | CI10: X | CJ10: X
A11: STR | B11: Fondazioni | C11: CASSERO | D11: X | E11: X | F11: X | G11: X | H11: X | I11: X | J11: X | K11: X | L11: X | M11: X | N11: X | O11: X | P11: X | Q11: X | R11: X | S11: X | T11: X | U11: X | V11: X | W11: X | X11: X | Y11: X | Z11: X | AA11: X | AB11: X | AC11: X | AO11: X | AP11: X | AQ11: X | AR11: X | AS11: X | AT11: X | AU11: X | AV11: X | AW11: X | AX11: X | AY11: X | AZ11: X | BA11: X | BB11: X | BC11: X | BD11: X | BE11: X | BF11: X | BG11: X | BH11: X | BI11: X | BW11: X | BX11: X | BY11: X | BZ11: X | CA11: X | CB11: X | CC11: X | CD11: X | CE11: X | CF11: X | CG11: X | CH11: X | CI11: X | CJ11: X
A12: STR | B12: Fondazioni | C12: MICROPALO | D12: X | E12: X | F12: X | G12: X | H12: X | I12: X | J12: X | K12: X | L12: X | M12: X | N12: X | O12: X | P12: X | Q12: X | R12: X | S12: X | T12: X | U12: X | V12: X | W12: X | X12: X | Y12: X | Z12: X | AA12: X | AB12: X | AC12: X | AO12: X | AP12: X | AQ12: X | AR12: X | AS12: X | AT12: X | AU12: X | AV12: X | AW12: X | AX12: X | AY12: X | AZ12: X | BA12: X | BB12: X | BC12: X | BD12: X | BE12: X | BF12: X | BG12: X | BH12: X | BI12: X | BW12: X | BX12: X | BY12: X | BZ12: X | CA12: X | CB12: X | CC12: X | CD12: X | CE12: X | CF12: X | CG12: X | CH12: X | CI12: X | CJ12: X
A13: STR | B13: Fondazioni | C13: PALO | D13: X | E13: X | F13: X | G13: X | H13: X | I13: X | J13: X | K13: X | L13: X | M13: X | N13: X | O13: X | P13: X | Q13: X | R13: X | S13: X | T13: X | U13: X | V13: X | W13: X | X13: X | Y13: X | Z13: X | AA13: X | AB13: X | AC13: X | AO13: X | AP13: X | AQ13: X | AR13: X | AS13: X | AT13: X | AU13: X | AV13: X | AW13: X | AX13: X | AY13: X | AZ13: X | BA13: X | BB13: X | BC13: X | BD13: X | BE13: X | BF13: X | BG13: X | BH13: X | BI13: X | BW13: X | BX13: X | BY13: X | BZ13: X | CA13: X | CB13: X | CC13: X | CD13: X | CE13: X | CF13: X | CG13: X | CH13: X | CI13: X | CJ13: X
A14: STR | B14: Fondazioni | C14: JET_GROUTING | D14: X | E14: X | F14: X | G14: X | H14: X | I14: X | J14: X | K14: X | L14: X | M14: X | N14: X | O14: X | P14: X | Q14: X | R14: X | S14: X | T14: X | U14: X | V14: X | W14: X | X14: X | Y14: X | Z14: X | AA14: X | AB14: X | AC14: X | AO14: X | AP14: X | AQ14: X | AR14: X | AS14: X | AT14: X | AU14: X | AV14: X | AW14: X | AX14: X | AY14: X | AZ14: X | BA14: X | BB14: X | BC14: X | BD14: X | BE14: X | BF14: X | BG14: X | BH14: X | BI14: X | BW14: X | BX14: X | BY14: X | BZ14: X | CA14: X | CB14: X | CC14: X | CD14: X | CE14: X | CF14: X | CG14: X | CH14: X | CI14: X | CJ14: X
A15: STR | B15: Fondazioni | C15: TRAVE_DI_CORONAMENTO | D15: X | E15: X | F15: X | G15: X | H15: X | I15: X | J15: X | K15: X | L15: X | M15: X | N15: X | O15: X | P15: X | Q15: X | R15: X | S15: X | T15: X | U15: X | V15: X | W15: X | X15: X | Y15: X | Z15: X | AA15: X | AB15: X | AC15: X | AO15: X | AP15: X | AQ15: X | AR15: X | AS15: X | AT15: X | AU15: X | AV15: X | AW15: X | AX15: X | AY15: X | AZ15: X | BA15: X | BB15: X | BC15: X | BD15: X | BE15: X | BF15: X | BG15: X | BH15: X | BI15: X | BW15: X | BX15: X | BY15: X | BZ15: X | CA15: X | CB15: X | CC15: X | CD15: X | CE15: X | CF15: X | CG15: X | CH15: X | CI15: X | CJ15: X
A16: STR | B16: Fondazioni | C16: DIAFRAMMA | D16: X | E16: X | F16: X | G16: X | H16: X | I16: X | J16: X | K16: X | L16: X | M16: X | N16: X | O16: X | P16: X | Q16: X | R16: X | S16: X | T16: X | U16: X | V16: X | W16: X | X16: X | Y16: X | Z16: X | AA16: X | AB16: X | AC16: X | AO16: X | AP16: X | AQ16: X | AR16: X | AS16: X | AT16: X | AU16: X | AV16: X | AW16: X | AX16: X | AY16: X | AZ16: X | BA16: X | BB16: X | BC16: X | BD16: X | BE16: X | BF16: X | BG16: X | BH16: X | BI16: X | BW16: X | BX16: X | BY16: X | BZ16: X | CA16: X | CB16: X | CC16: X | CD16: X | CE16: X | CF16: X | CG16: X | CH16: X | CI16: X | CJ16: X
A17: STR | B17: Fondazioni | C17: SOLETTONE | D17: X | E17: X | F17: X | G17: X | H17: X | I17: X | J17: X | K17: X | L17: X | M17: X | N17: X | O17: X | P17: X | Q17: X | R17: X | S17: X | T17: X | U17: X | V17: X | W17: X | X17: X | Y17: X | Z17: X | AA17: X | AB17: X | AC17: X | AO17: X | AP17: X | AQ17: X | AR17: X | AS17: X | AT17: X | AU17: X | AV17: X | AW17: X | AX17: X | AY17: X | AZ17: X | BA17: X | BB17: X | BC17: X | BD17: X | BE17: X | BF17: X | BG17: X | BH17: X | BI17: X | BW17: X | BX17: X | BY17: X | BZ17: X | CA17: X | CB17: X | CC17: X | CD17: X | CE17: X | CF17: X | CG17: X | CH17: X | CI17: X | CJ17: X
... A52: STR | B52: StruttureInElevazione | C52: RAMPA_IN_CA | D52: X | E52: X | F52: X | G52: X | H52: X | I52: X | J52: X | K52: X | L52: X | M52: X | N52: X | O52: X | P52: X | Q52: X | R52: X | S52: X | T52: X | U52: X | V52: X | W52: X | X52: X | Y52: X | Z52: X | AA52: X | AB52: X | AC52: X | AO52: X | AP52: X | AQ52: X | AR52: X | AS52: X | AT52: X | AU52: X | AV52: X | AW52: X | AX52: X | AY52: X | AZ52: X | BA52: X | BB52: X | BC52: X | BD52: X | BE52: X | BF52: X | BG52: X | BH52: X | BI52: X | BW52: X | BX52: X | BY52: X | BZ52: X | CA52: X | CB52: X | CC52: X | CD52: X | CE52: X | CF52: X | CG52: X | CH52: X | CI52: X | CJ52: X
A53: STR | B53: StruttureInElevazione | C53: RAMPA_IN_PREFABBRICATO
A54: STR | B54: StruttureInElevazione | C54: RAMPA_IN_ACCIAIO
A55: STR | B55: StruttureInElevazione | C55: SCALA_IN_CA
A56: STR | B56: StruttureInElevazione | C56: SCALA_METALLICA
A57: STR | B57: StruttureInElevazione | C57: SCATOLARE_IN_OPERA
A58: STR | B58: StruttureInElevazione | C58: POZZETTI_IN_OPERA
A59: STR | B59: StruttureInElevazione | C59: PILASTRO_IN_LEGNO
A60: STR | B60: StruttureInElevazione | C60: TRAVE_IN_LEGNO
A61: STR | B61: StruttureInElevazione | C61: PANNELLO_PORTANTE_IN_LEGNO
A62: ARC | B62: Facciata | C62: MONTANTE
A63: ARC | B63: Facciata | C63: TRAVERSO
A64: ARC | B64: Facciata | C64: PANNELLO_VETRATO
... A324: TCS | B324: Telecomunicazioni | C324: MUFFOLA_FIBRA_OTTICA

Sheet SchedaInformativaPorte
A1: Seriale | B1: ReazioneAlFuoco | C1: ElettromagneteRitenuta | D1: ManiglioneAntipanico
A2: 0048_POR_00001 | B2: REI300 | C2: NO | D2: NO

Sheet CATEGORIE_TIPO IMPIANTO
A1: STANDARD GENERALE CATEGORIE/TIPO IMPIANTO
A2: DescrizioneCategoria_TipoImpianto | B2: CodiceCategoria_TipoImpianto
A3: AriaCompressa | B3: AC
A4: ImpiantoAntincendio | B4: AN
A5: ImpiantoCondizionamento | B5: IC
A6: ImpiantoRiscaldamento | B6: IR
A7: ImpiantoFognario | B7: IF
A8: ImpiantoIdrico | B8: II
A9: ImpiantoElettrico | B9: EL
A10: IlluminazioneStradale | B10: IS
A11: Telecomunicazioni | B11: TC
A12: ImpiantoSicurezza | B12: SI
A13: Fondazioni | B13: FN
... A29: Cantierizzazione | B29: CA

Sheet LISTA PARAMETRI MODELLO BIM
B1: STABILI | C1: STABILI | D1: STABILI | E1: STABILI | F1: STABILI | G1: STABILI | H1: VARIABILE | I1: STABILI | J1: STABILI | K1: VARIABILE | L1: VARIABILE | M1: VARIABILE | N1: VARIABILE | O1: VARIABILE | P1: STABILE | Q1: VARIABILE | R1: VARIABILE
A2: LISTA PARAMETRI | B2: DescrizioneCategoria_TipoImpianto | C2: CodiceCategoria_TipoImpianto | D2: DescrizioneGuidaIspezione_SottoCategoria | E2: SottopostoAManutenzione | F2: CodiceGuidaIspezione | G2: Progressivo(totale di quella sottocategoria su tutto l'edificio) | H2: DescrizioneFM | I2: CodiceAsset | J2: DescrizioneAsset | K2: CodicePianoFM | L2: DescrizionePianoFM | M2: CodiceLocaleFM | N2: DescrizioneLocaleFM | O2: SerialeFM | P2: SerialeID | Q2: ManualeManutenzioneFM | R2: CapitoloManualeManutenzioneFM
A3: ESEMPIO | B3: Impianto riscaldamento | C3: IR | D3: Caldaia Murale | E3: SI | F3: 308 | G3: 0003 | H3: Caldaia a muro altezza 150cm | I3: X1 | J3: Edificio X1 dedicato al Polo dei laboratori per la Material Science nel Campus di Basovizza | K3: T | L3: Piano terra | M3: T05 | N3: Ufficio | O3: =_xlfn.CONCAT(I3,F3,G3,M3,C3) -> X13080003T05IR | P3: X13080003___IR | Q3: CBA001_01A_0001_TEC_01AE_STR_PM | R3: 3.10
A6: Da inserire nel modello BIM, valorizzare già in fase progettuale | B6: STABILI_FASE PROGETTUALE_PFTE | C6: STABILI_FASE PROGETTUALE_PE
A7: Da in dati esterni al modello BIM. NON INSERIRE NEL MODELLO BIM | B7: VARIABILE
